BEGIN:VCALENDAR
VERSION:2.0
PRODID:-//Florida Specifier - ECPv6.15.15//NONSGML v1.0//EN
CALSCALE:GREGORIAN
METHOD:PUBLISH
X-WR-CALNAME:Florida Specifier
X-ORIGINAL-URL:https://floridaspecifier.com
X-WR-CALDESC:Events for Florida Specifier
REFRESH-INTERVAL;VALUE=DURATION:PT1H
X-Robots-Tag:noindex
X-PUBLISHED-TTL:PT1H
BEGIN:VTIMEZONE
TZID:America/Halifax
BEGIN:DAYLIGHT
TZOFFSETFROM:-0400
TZOFFSETTO:-0300
TZNAME:ADT
DTSTART:20230312T060000
END:DAYLIGHT
BEGIN:STANDARD
TZOFFSETFROM:-0300
TZOFFSETTO:-0400
TZNAME:AST
DTSTART:20231105T050000
END:STANDARD
BEGIN:DAYLIGHT
TZOFFSETFROM:-0400
TZOFFSETTO:-0300
TZNAME:ADT
DTSTART:20240310T060000
END:DAYLIGHT
BEGIN:STANDARD
TZOFFSETFROM:-0300
TZOFFSETTO:-0400
TZNAME:AST
DTSTART:20241103T050000
END:STANDARD
BEGIN:DAYLIGHT
TZOFFSETFROM:-0400
TZOFFSETTO:-0300
TZNAME:ADT
DTSTART:20250309T060000
END:DAYLIGHT
BEGIN:STANDARD
TZOFFSETFROM:-0300
TZOFFSETTO:-0400
TZNAME:AST
DTSTART:20251102T050000
END:STANDARD
END:VTIMEZONE
BEGIN:VEVENT
DTSTART;VALUE=DATE:20241104
DTEND;VALUE=DATE:20241107
DTSTAMP:20260425T072718
CREATED:20240920T165253Z
LAST-MODIFIED:20240920T165253Z
UID:2448-1730678400-1730937599@floridaspecifier.com
SUMMARY:The 29th Florida Remediation Conference
DESCRIPTION:The Florida Remediation Conference (FRC) is one of the premier soil\, air and water remediation conferences in the industry. FRC attracts over 400 attendees comprised of a mix of industry representatives\, developers\, consultants and contractors\, and over 70 exhibitors and sponsors from across the country.  It is far from just being a Florida event. 
URL:https://floridaspecifier.com/event/the-29th-florida-remediation-conference/
LOCATION:Rosen Centre Hotel\, Orlando\, FL
END:VEVENT
BEGIN:VEVENT
DTSTART;VALUE=DATE:20241106
DTEND;VALUE=DATE:20241109
DTSTAMP:20260425T072718
CREATED:20240920T165352Z
LAST-MODIFIED:20240920T165352Z
UID:2451-1730851200-1731110399@floridaspecifier.com
SUMMARY:Florida Society of Environmental Analysts Fall Conference
DESCRIPTION:This meeting promises to be both informative and beneficial to all field samplers\, operators\, engineers\, analysts and managers in the environmental field. Come join us for an opportunity to network and exchange ideas and information. We are offering a “data users” track at this conference as well for those that use the data from the labs.
URL:https://floridaspecifier.com/event/florida-society-of-environmental-analysts-fall-conference/
LOCATION:Embassy Suites Orlando\, Kissimmee\, FL
END:VEVENT
END:VCALENDAR